View In:
ArcGIS JavaScript
ArcGIS Online Map Viewer
ArcGIS Earth
Service Description: Imagery/Aerials_1988wm
Name: Imagery/Aerials_1988wm
Description:
Single Fused Map Cache: false
Extent:
XMin: -8776472.616982134
YMin: 4203121.291479027
XMax: -8747557.152451754
YMax: 4235076.1417931495
Spatial Reference: 102100
(3857)
LatestVCSWkid(0)
Initial Extent:
XMin: -8776472.616982134
YMin: 4203121.291479027
XMax: -8747557.152451754
YMax: 4235076.1417931495
Spatial Reference: 102100
(3857)
LatestVCSWkid(0)
Full Extent:
XMin: -8776472.616982134
YMin: 4203121.291479027
XMax: -8747557.152451754
YMax: 4235076.1417931495
Spatial Reference: 102100
(3857)
LatestVCSWkid(0)
Pixel Size X: 0.18818311377610014
Pixel Size Y: 0.18902602966058932
Band Count: 1
Pixel Type: U8
RasterFunction Infos: {"rasterFunctionInfos": [{
"name": "None",
"description": "",
"help": ""
}]}
Mensuration Capabilities: Basic
Inspection Capabilities:
Has Histograms: true
Has Colormap: false
Has Multi Dimensions : false
Rendering Rule:
Min Scale: 0
Max Scale: 0
Copyright Text:
Service Data Type: esriImageServiceDataTypeGeneric
Min Values: 49
Max Values: 255
Mean Values: 120.02916881818834
Standard Deviation Values: 37.16462364336133
Object ID Field:
Fields:
None
Default Mosaic Method: Center
Allowed Mosaic Methods:
SortField:
SortValue: null
Mosaic Operator: First
Default Compression Quality: 75
Default Resampling Method: Bilinear
Max Record Count: null
Max Image Height: 4100
Max Image Width: 15000
Max Download Image Count: null
Max Mosaic Image Count: null
Allow Raster Function: true
Allow Copy: true
Allow Analysis: true
Allow Compute TiePoints: false
Supports Statistics: false
Supports Advanced Queries: false
Use StandardizedQueries: true
Raster Type Infos:
Name: Raster Dataset
Description: Supports all ArcGIS Raster Datasets
Help:
Has Raster Attribute Table: false
Edit Fields Info: null
Ownership Based AccessControl For Rasters: null
Child Resources:
Info
Histograms
Statistics
Key Properties
Legend
Raster Function Infos
Supported Operations:
Export Image
Identify
Measure
Compute Histograms
Compute Statistics Histograms
Get Samples
Compute Class Statistics
Query Boundary
Compute Pixel Location
Compute Angles
Validate
Project