View In:
ArcGIS JavaScript
ArcGIS Online Map Viewer
ArcGIS Earth
Service Description: Imagery/Aerials_1987wm
Name: Imagery/Aerials_1987wm
Description:
Single Fused Map Cache: false
Extent:
XMin: -8811004.32509065
YMin: 4191973.2204743098
XMax: -8747564.758674407
YMax: 4231316.679896073
Spatial Reference: 102100
(3857)
LatestVCSWkid(0)
Initial Extent:
XMin: -8811004.32509065
YMin: 4191973.2204743098
XMax: -8747564.758674407
YMax: 4231316.679896073
Spatial Reference: 102100
(3857)
LatestVCSWkid(0)
Full Extent:
XMin: -8811004.32509065
YMin: 4191973.2204743098
XMax: -8747564.758674407
YMax: 4231316.679896073
Spatial Reference: 102100
(3857)
LatestVCSWkid(0)
Pixel Size X: 0.18758058544301753
Pixel Size Y: 0.18842382255888881
Band Count: 1
Pixel Type: U8
RasterFunction Infos: {"rasterFunctionInfos": [{
"name": "None",
"description": "",
"help": ""
}]}
Mensuration Capabilities: Basic
Inspection Capabilities:
Has Histograms: true
Has Colormap: false
Has Multi Dimensions : false
Rendering Rule:
Min Scale: 0
Max Scale: 0
Copyright Text:
Service Data Type: esriImageServiceDataTypeGeneric
Min Values: 46
Max Values: 255
Mean Values: 116.6149280976202
Standard Deviation Values: 32.7322903154416
Object ID Field:
Fields:
None
Default Mosaic Method: Center
Allowed Mosaic Methods:
SortField:
SortValue: null
Mosaic Operator: First
Default Compression Quality: 75
Default Resampling Method: Bilinear
Max Record Count: null
Max Image Height: 4100
Max Image Width: 15000
Max Download Image Count: null
Max Mosaic Image Count: null
Allow Raster Function: true
Allow Copy: true
Allow Analysis: true
Allow Compute TiePoints: false
Supports Statistics: false
Supports Advanced Queries: false
Use StandardizedQueries: true
Raster Type Infos:
Name: Raster Dataset
Description: Supports all ArcGIS Raster Datasets
Help:
Has Raster Attribute Table: false
Edit Fields Info: null
Ownership Based AccessControl For Rasters: null
Child Resources:
Info
Histograms
Statistics
Key Properties
Legend
Raster Function Infos
Supported Operations:
Export Image
Identify
Measure
Compute Histograms
Compute Statistics Histograms
Get Samples
Compute Class Statistics
Query Boundary
Compute Pixel Location
Compute Angles
Validate
Project