View In:
ArcGIS JavaScript
ArcGIS Online Map Viewer
ArcGIS Earth
Service Description: Imagery/Aerials_1983wm
Name: Imagery/Aerials_1983wm
Description:
Single Fused Map Cache: false
Extent:
XMin: -8820333.4098419
YMin: 4188222.6396051547
XMax: -8738216.581188956
YMax: 4244507.906362334
Spatial Reference: 102100
(3857)
LatestVCSWkid(0)
Initial Extent:
XMin: -8820333.4098419
YMin: 4188222.6396051547
XMax: -8738216.581188956
YMax: 4244507.906362334
Spatial Reference: 102100
(3857)
LatestVCSWkid(0)
Full Extent:
XMin: -8820333.4098419
YMin: 4188222.6396051547
XMax: -8738216.581188956
YMax: 4244507.906362334
Spatial Reference: 102100
(3857)
LatestVCSWkid(0)
Pixel Size X: 0.18751730617959703
Pixel Size Y: 0.18836095375475048
Band Count: 1
Pixel Type: U8
RasterFunction Infos: {"rasterFunctionInfos": [{
"name": "None",
"description": "",
"help": ""
}]}
Mensuration Capabilities: Basic
Inspection Capabilities:
Has Histograms: true
Has Colormap: false
Has Multi Dimensions : false
Rendering Rule:
Min Scale: 0
Max Scale: 0
Copyright Text:
Service Data Type: esriImageServiceDataTypeGeneric
Min Values: 20
Max Values: 255
Mean Values: 107.81921754472276
Standard Deviation Values: 33.65283298029444
Object ID Field:
Fields:
None
Default Mosaic Method: Center
Allowed Mosaic Methods:
SortField:
SortValue: null
Mosaic Operator: First
Default Compression Quality: 75
Default Resampling Method: Bilinear
Max Record Count: null
Max Image Height: 4100
Max Image Width: 15000
Max Download Image Count: null
Max Mosaic Image Count: null
Allow Raster Function: true
Allow Copy: true
Allow Analysis: true
Allow Compute TiePoints: false
Supports Statistics: false
Supports Advanced Queries: false
Use StandardizedQueries: true
Raster Type Infos:
Name: Raster Dataset
Description: Supports all ArcGIS Raster Datasets
Help:
Has Raster Attribute Table: false
Edit Fields Info: null
Ownership Based AccessControl For Rasters: null
Child Resources:
Info
Histograms
Statistics
Key Properties
Legend
Raster Function Infos
Supported Operations:
Export Image
Identify
Measure
Compute Histograms
Compute Statistics Histograms
Get Samples
Compute Class Statistics
Query Boundary
Compute Pixel Location
Compute Angles
Validate
Project