View In:
ArcGIS JavaScript
ArcGIS Online Map Viewer
ArcGIS Earth
Service Description: Imagery/Aerials_1972wm
Name: Imagery/Aerials_1972wm
Description:
Single Fused Map Cache: false
Extent:
XMin: -8819006.966597265
YMin: 4189332.3872504397
XMax: -8738802.920319943
YMax: 4246382.015919852
Spatial Reference: 102100
(3857)
LatestVCSWkid(0)
Initial Extent:
XMin: -8819006.966597265
YMin: 4189332.3872504397
XMax: -8738802.920319943
YMax: 4246382.015919852
Spatial Reference: 102100
(3857)
LatestVCSWkid(0)
Full Extent:
XMin: -8819006.966597265
YMin: 4189332.3872504397
XMax: -8738802.920319943
YMax: 4246382.015919852
Spatial Reference: 102100
(3857)
LatestVCSWkid(0)
Pixel Size X: 2.586893506557924
Pixel Size Y: 2.6007307015596437
Band Count: 3
Pixel Type: U8
RasterFunction Infos: {"rasterFunctionInfos": [{
"name": "None",
"description": "",
"help": ""
}]}
Mensuration Capabilities: Basic
Inspection Capabilities:
Has Histograms: true
Has Colormap: false
Has Multi Dimensions : false
Rendering Rule:
Min Scale: 0
Max Scale: 0
Copyright Text:
Service Data Type: esriImageServiceDataTypeRGB
Min Values: 0, 0, 0
Max Values: 255, 255, 255
Mean Values: 129.0078669427516, 132.1866548228823, 141.2569077260469
Standard Deviation Values: 56.71711649276085, 54.847958283037926, 54.90516384980214
Object ID Field:
Fields:
None
Default Mosaic Method: Center
Allowed Mosaic Methods:
SortField:
SortValue: null
Mosaic Operator: First
Default Compression Quality: 75
Default Resampling Method: Bilinear
Max Record Count: null
Max Image Height: 4100
Max Image Width: 15000
Max Download Image Count: null
Max Mosaic Image Count: null
Allow Raster Function: true
Allow Copy: true
Allow Analysis: true
Allow Compute TiePoints: false
Supports Statistics: false
Supports Advanced Queries: false
Use StandardizedQueries: true
Raster Type Infos:
Name: Raster Dataset
Description: Supports all ArcGIS Raster Datasets
Help:
Has Raster Attribute Table: false
Edit Fields Info: null
Ownership Based AccessControl For Rasters: null
Child Resources:
Info
Histograms
Statistics
Key Properties
Legend
Raster Function Infos
Supported Operations:
Export Image
Identify
Measure
Compute Histograms
Compute Statistics Histograms
Get Samples
Compute Class Statistics
Query Boundary
Compute Pixel Location
Compute Angles
Validate
Project