View In:
ArcGIS JavaScript
ArcGIS Online Map Viewer
ArcGIS Earth
Service Description: Imagery/Aerials_1965_66wm
Name: Imagery/Aerials_1965_66wm
Description:
Single Fused Map Cache: false
Extent:
XMin: -8819232.385674942
YMin: 4188293.5359577714
XMax: -8738858.15197526
YMax: 4246902.197696139
Spatial Reference: 102100
(3857)
LatestVCSWkid(0)
Initial Extent:
XMin: -8819232.385674942
YMin: 4188293.5359577714
XMax: -8738858.15197526
YMax: 4246902.197696139
Spatial Reference: 102100
(3857)
LatestVCSWkid(0)
Full Extent:
XMin: -8819232.385674942
YMin: 4188293.5359577714
XMax: -8738858.15197526
YMax: 4246902.197696139
Spatial Reference: 102100
(3857)
LatestVCSWkid(0)
Pixel Size X: 2.551968048886588
Pixel Size Y: 2.5631357359559064
Band Count: 3
Pixel Type: U8
RasterFunction Infos: {"rasterFunctionInfos": [{
"name": "None",
"description": "",
"help": ""
}]}
Mensuration Capabilities: Basic
Inspection Capabilities:
Has Histograms: true
Has Colormap: false
Has Multi Dimensions : false
Rendering Rule:
Min Scale: 0
Max Scale: 0
Copyright Text:
Service Data Type: esriImageServiceDataTypeRGB
Min Values: 0, 0, 0
Max Values: 255, 255, 255
Mean Values: 111.92812889406582, 115.211276361241, 120.59481070597103
Standard Deviation Values: 44.80782334484639, 43.09681037661826, 43.68010265678296
Object ID Field:
Fields:
None
Default Mosaic Method: Center
Allowed Mosaic Methods:
SortField:
SortValue: null
Mosaic Operator: First
Default Compression Quality: 75
Default Resampling Method: Bilinear
Max Record Count: null
Max Image Height: 4100
Max Image Width: 15000
Max Download Image Count: null
Max Mosaic Image Count: null
Allow Raster Function: true
Allow Copy: true
Allow Analysis: true
Allow Compute TiePoints: false
Supports Statistics: false
Supports Advanced Queries: false
Use StandardizedQueries: true
Raster Type Infos:
Name: Raster Dataset
Description: Supports all ArcGIS Raster Datasets
Help:
Has Raster Attribute Table: false
Edit Fields Info: null
Ownership Based AccessControl For Rasters: null
Child Resources:
Info
Histograms
Statistics
Key Properties
Legend
Raster Function Infos
Supported Operations:
Export Image
Identify
Measure
Compute Histograms
Compute Statistics Histograms
Get Samples
Compute Class Statistics
Query Boundary
Compute Pixel Location
Compute Angles
Validate
Project