View In:
ArcGIS JavaScript
ArcGIS Online Map Viewer
ArcGIS Earth
Service Description: Imagery/Aerials_1955wm
Name: Imagery/Aerials_1955wm
Description:
Single Fused Map Cache: false
Extent:
XMin: -8821482.629574005
YMin: 4188093.3928160104
XMax: -8739457.716953935
YMax: 4246919.368747674
Spatial Reference: 102100
(3857)
LatestVCSWkid(0)
Initial Extent:
XMin: -8821482.629574005
YMin: 4188093.3928160104
XMax: -8739457.716953935
YMax: 4246919.368747674
Spatial Reference: 102100
(3857)
LatestVCSWkid(0)
Full Extent:
XMin: -8821482.629574005
YMin: 4188093.3928160104
XMax: -8739457.716953935
YMax: 4246919.368747674
Spatial Reference: 102100
(3857)
LatestVCSWkid(0)
Pixel Size X: 2.443763224193936
Pixel Size Y: 2.4543548035573903
Band Count: 3
Pixel Type: U8
RasterFunction Infos: {"rasterFunctionInfos": [{
"name": "None",
"description": "",
"help": ""
}]}
Mensuration Capabilities: Basic
Inspection Capabilities:
Has Histograms: true
Has Colormap: false
Has Multi Dimensions : false
Rendering Rule:
Min Scale: 0
Max Scale: 0
Copyright Text:
Service Data Type: esriImageServiceDataTypeRGB
Min Values: 0, 0, 0
Max Values: 255, 255, 255
Mean Values: 115.859592565455, 117.62329591091346, 122.45935949512925
Standard Deviation Values: 51.057849617324635, 48.95229584143834, 48.267139817429054
Object ID Field:
Fields:
None
Default Mosaic Method: Center
Allowed Mosaic Methods:
SortField:
SortValue: null
Mosaic Operator: First
Default Compression Quality: 75
Default Resampling Method: Bilinear
Max Record Count: null
Max Image Height: 4100
Max Image Width: 15000
Max Download Image Count: null
Max Mosaic Image Count: null
Allow Raster Function: true
Allow Copy: true
Allow Analysis: true
Allow Compute TiePoints: false
Supports Statistics: false
Supports Advanced Queries: false
Use StandardizedQueries: true
Raster Type Infos:
Name: Raster Dataset
Description: Supports all ArcGIS Raster Datasets
Help:
Has Raster Attribute Table: false
Edit Fields Info: null
Ownership Based AccessControl For Rasters: null
Child Resources:
Info
Histograms
Statistics
Key Properties
Legend
Raster Function Infos
Supported Operations:
Export Image
Identify
Measure
Compute Histograms
Compute Statistics Histograms
Get Samples
Compute Class Statistics
Query Boundary
Compute Pixel Location
Compute Angles
Validate
Project