View In:
ArcGIS JavaScript
ArcGIS Online Map Viewer
ArcGIS Earth
Service Description: Imagery/Aerials_1949wm
Name: Imagery/Aerials_1949wm
Description:
Single Fused Map Cache: false
Extent:
XMin: -8817836.601448953
YMin: 4190672.361285607
XMax: -8742913.865216428
YMax: 4243616.071427675
Spatial Reference: 102100
(3857)
LatestVCSWkid(0)
Initial Extent:
XMin: -8817836.601448953
YMin: 4190672.361285607
XMax: -8742913.865216428
YMax: 4243616.071427675
Spatial Reference: 102100
(3857)
LatestVCSWkid(0)
Full Extent:
XMin: -8817836.601448953
YMin: 4190672.361285607
XMax: -8742913.865216428
YMax: 4243616.071427675
Spatial Reference: 102100
(3857)
LatestVCSWkid(0)
Pixel Size X: 2.618302856282535
Pixel Size Y: 2.630220584334448
Band Count: 3
Pixel Type: U8
RasterFunction Infos: {"rasterFunctionInfos": [{
"name": "None",
"description": "",
"help": ""
}]}
Mensuration Capabilities: Basic
Inspection Capabilities:
Has Histograms: true
Has Colormap: false
Has Multi Dimensions : false
Rendering Rule:
Min Scale: 0
Max Scale: 0
Copyright Text:
Service Data Type: esriImageServiceDataTypeRGB
Min Values: 0, 0, 0
Max Values: 254, 254, 254
Mean Values: 120.17389827347459, 121.60654380227032, 115.46977101433934
Standard Deviation Values: 50.02762447255689, 47.89558538064003, 44.144903224128456
Object ID Field:
Fields:
None
Default Mosaic Method: Center
Allowed Mosaic Methods:
SortField:
SortValue: null
Mosaic Operator: First
Default Compression Quality: 75
Default Resampling Method: Bilinear
Max Record Count: null
Max Image Height: 4100
Max Image Width: 15000
Max Download Image Count: null
Max Mosaic Image Count: null
Allow Raster Function: true
Allow Copy: true
Allow Analysis: true
Allow Compute TiePoints: false
Supports Statistics: false
Supports Advanced Queries: false
Use StandardizedQueries: true
Raster Type Infos:
Name: Raster Dataset
Description: Supports all ArcGIS Raster Datasets
Help:
Has Raster Attribute Table: false
Edit Fields Info: null
Ownership Based AccessControl For Rasters: null
Child Resources:
Info
Histograms
Statistics
Key Properties
Legend
Raster Function Infos
Supported Operations:
Export Image
Identify
Measure
Compute Histograms
Compute Statistics Histograms
Get Samples
Compute Class Statistics
Query Boundary
Compute Pixel Location
Compute Angles
Validate
Project