View In:
ArcGIS JavaScript
ArcGIS Online Map Viewer
ArcGIS Earth
Service Description: Imagery/Aerials_1938wm
Name: Imagery/Aerials_1938wm
Description:
Single Fused Map Cache: false
Extent:
XMin: -8812931.327285556
YMin: 4190397.3911621696
XMax: -8742747.370300665
YMax: 4244055.389773797
Spatial Reference: 102100
(3857)
LatestVCSWkid(0)
Initial Extent:
XMin: -8812931.327285556
YMin: 4190397.3911621696
XMax: -8742747.370300665
YMax: 4244055.389773797
Spatial Reference: 102100
(3857)
LatestVCSWkid(0)
Full Extent:
XMin: -8812931.327285556
YMin: 4190397.3911621696
XMax: -8742747.370300665
YMax: 4244055.389773797
Spatial Reference: 102100
(3857)
LatestVCSWkid(0)
Pixel Size X: 2.753175780044352
Pixel Size Y: 2.7644512422270795
Band Count: 3
Pixel Type: U8
RasterFunction Infos: {"rasterFunctionInfos": [{
"name": "None",
"description": "",
"help": ""
}]}
Mensuration Capabilities: Basic
Inspection Capabilities:
Has Histograms: true
Has Colormap: false
Has Multi Dimensions : false
Rendering Rule:
Min Scale: 0
Max Scale: 0
Copyright Text:
Service Data Type: esriImageServiceDataTypeRGB
Min Values: 0, 0, 0
Max Values: 255, 255, 255
Mean Values: 124.86781131521306, 126.78453220149336, 117.46697591834837
Standard Deviation Values: 48.7666909994186, 47.247028893073065, 43.77883080265444
Object ID Field:
Fields:
None
Default Mosaic Method: Center
Allowed Mosaic Methods:
SortField:
SortValue: null
Mosaic Operator: First
Default Compression Quality: 75
Default Resampling Method: Bilinear
Max Record Count: null
Max Image Height: 4100
Max Image Width: 15000
Max Download Image Count: null
Max Mosaic Image Count: null
Allow Raster Function: true
Allow Copy: true
Allow Analysis: true
Allow Compute TiePoints: false
Supports Statistics: false
Supports Advanced Queries: false
Use StandardizedQueries: true
Raster Type Infos:
Name: Raster Dataset
Description: Supports all ArcGIS Raster Datasets
Help:
Has Raster Attribute Table: false
Edit Fields Info: null
Ownership Based AccessControl For Rasters: null
Child Resources:
Info
Histograms
Statistics
Key Properties
Legend
Raster Function Infos
Supported Operations:
Export Image
Identify
Measure
Compute Histograms
Compute Statistics Histograms
Get Samples
Compute Class Statistics
Query Boundary
Compute Pixel Location
Compute Angles
Validate
Project